BEGIN:VCALENDAR
VERSION:2.0
PRODID:-//itb Karlsruhe - ECPv6.15.20//NONSGML v1.0//EN
CALSCALE:GREGORIAN
METHOD:PUBLISH
X-ORIGINAL-URL:https://www.itb.de
X-WR-CALDESC:Veranstaltungen für itb Karlsruhe
REFRESH-INTERVAL;VALUE=DURATION:PT1H
X-Robots-Tag:noindex
X-PUBLISHED-TTL:PT1H
BEGIN:VTIMEZONE
TZID:UTC
BEGIN:STANDARD
TZOFFSETFROM:+0000
TZOFFSETTO:+0000
TZNAME:UTC
DTSTART:20240101T000000
END:STANDARD
END:VTIMEZONE
BEGIN:VEVENT
DTSTART;TZID=UTC:20250924T130000
DTEND;TZID=UTC:20250924T140000
DTSTAMP:20260422T005243
CREATED:20250909T171334Z
LAST-MODIFIED:20250909T171334Z
UID:10000076-1758718800-1758722400@www.itb.de
SUMMARY:Was Azubis wollen: Erwartungen und Erfahrungen im Handwerk
DESCRIPTION:Was macht das Handwerk für junge Menschen besonders attraktiv? Entlohnung\, Wertschätzung\, Zufriedenheit\, Frauen im Handwerk: \nEine neue Befragung im Rahmen des Projektes Next Level Handwerk unter Auszubildenden im Handwerk zeigt: Worauf kommt es der jungen Generation an? \nDer Vortrag liefert hilfreiche Erkenntnisse zur Gewinnung und Bindung der Fachkräfte von morgen. \nBitte melden Sie sich per E-Mail an: cordes@itb.de \nWir freuen uns auf Ihre Teilnahme!
URL:https://www.itb.de/veranstaltung/was-azubis-wollen-erwartungen-und-erfahrungen-im-handwerk/
LOCATION:Online
ATTACH;FMTTYPE=image/jpeg:https://www.itb.de/wp-content/uploads/AW25_Logo_blau_72-dpi.jpg
END:VEVENT
BEGIN:VEVENT
DTSTART;TZID=UTC:20250925T100000
DTEND;TZID=UTC:20250925T110000
DTSTAMP:20260422T005243
CREATED:20250909T172937Z
LAST-MODIFIED:20250909T172937Z
UID:10000077-1758794400-1758798000@www.itb.de
SUMMARY:Fit für Morgen: Altersgerechtes Arbeiten im SHK-Handwerk
DESCRIPTION:Wir werfen einen Blick auf den demografischen Wandel und seine Bedeutung für das Handwerk und betriebliche Gestaltungsmöglichkeiten\, um diesem mit einer alter(n)sgerechten Arbeitsgestaltung zu begegnen. Es werden Highlights aus einer aktuellen Befragung des SHK-Handwerks zur alter(n)sgerechten Arbeitsgestaltung vorgestellt und auf Chancen und Handlungsbedarfe eingegangen. \nAblauf: \n\n\n\nDemografischer Wandel und die Bedeutung für das Handwerk\nAlter(n)sgerechtes Arbeiten: Kurze Begriffserläuterungen und betriebliche Gestaltungsmöglichkeiten\nAlter(n)sgerechte Arbeitsgestaltung im SHK-Handwerk: kurze Highlights aus der Befragung und besondere Handlungsbedarfe und -möglichkeiten\nAusblick auf die Veröffentlichung des Praxisleitfadens\nRaum für Diskussion und Fragen\n\n\nBitte melden Sie sich per E-Mail an: stegmueller@itb.de \nWir freuen uns auf Ihre Teilnahme!
URL:https://www.itb.de/veranstaltung/fit-fuer-morgen-altersgerechtes-arbeiten-im-shk-handwerk/
LOCATION:Online
ATTACH;FMTTYPE=image/jpeg:https://www.itb.de/wp-content/uploads/AW25_Logo_blau_72-dpi.jpg
END:VEVENT
END:VCALENDAR