BEGIN:VCALENDAR
VERSION:2.0
PRODID:-//itb Karlsruhe - ECPv6.15.20//NONSGML v1.0//EN
CALSCALE:GREGORIAN
METHOD:PUBLISH
X-WR-CALNAME:itb Karlsruhe
X-ORIGINAL-URL:https://www.itb.de
X-WR-CALDESC:Veranstaltungen für itb Karlsruhe
REFRESH-INTERVAL;VALUE=DURATION:PT1H
X-Robots-Tag:noindex
X-PUBLISHED-TTL:PT1H
BEGIN:VTIMEZONE
TZID:UTC
BEGIN:STANDARD
TZOFFSETFROM:+0000
TZOFFSETTO:+0000
TZNAME:UTC
DTSTART:20250101T000000
END:STANDARD
END:VTIMEZONE
BEGIN:VEVENT
DTSTART;TZID=UTC:20260707T093000
DTEND;TZID=UTC:20260707T163000
DTSTAMP:20260424T115357
CREATED:20260225T064333Z
LAST-MODIFIED:20260420T103709Z
UID:10000088-1783416600-1783441800@www.itb.de
SUMMARY:WIN:A Transfertag 2026: Wissen\, was wirkt – Transfer als Gemeinschaftsaufgabe
DESCRIPTION:SAVE THE DATE \nWIN:A Transfertag 2026 \n7. Juli 2026\n9:30 – 16:15 Uhr\nKOMED\, Köln \nUnter dem Titel „Wissen\, was wirkt – Transfer als Gemeinschaftsaufgabe“ diskutiert der diesjährige Transfertag die Gestaltung von Transferprozessen als gemeinsame Aufgabe betrieblicher und wissenschaftlicher Akteure. Im Fokus stehen praxisnahe Impulse\, Demonstratoren sowie der Austausch zwischen Betriebsräten\, Beratenden\, Forschenden und KMU-Führung. \nAlle Informationen zum Programm und den Link zur kostenfreien Anmeldung finden Sie hier.
URL:https://www.itb.de/veranstaltung/wina-transfertag-2026-wissen-was-wirkt-transfer-als-gemeinschaftsaufgabe/
ATTACH;FMTTYPE=image/png:https://www.itb.de/wp-content/uploads/Save-the-Date_WINA-Transfertag-2026_07.07._Koeln.png
END:VEVENT
END:VCALENDAR